BEGIN:VCALENDAR
VERSION:2.0
PRODID:-//Florida League of Cities - ECPv6.15.20//NONSGML v1.0//EN
CALSCALE:GREGORIAN
METHOD:PUBLISH
X-ORIGINAL-URL:https://www.flcities.com
X-WR-CALDESC:Events for Florida League of Cities
REFRESH-INTERVAL;VALUE=DURATION:PT1H
X-Robots-Tag:noindex
X-PUBLISHED-TTL:PT1H
BEGIN:VTIMEZONE
TZID:America/New_York
BEGIN:DAYLIGHT
TZOFFSETFROM:-0500
TZOFFSETTO:-0400
TZNAME:EDT
DTSTART:20240310T070000
END:DAYLIGHT
BEGIN:STANDARD
TZOFFSETFROM:-0400
TZOFFSETTO:-0500
TZNAME:EST
DTSTART:20241103T060000
END:STANDARD
BEGIN:DAYLIGHT
TZOFFSETFROM:-0500
TZOFFSETTO:-0400
TZNAME:EDT
DTSTART:20250309T070000
END:DAYLIGHT
BEGIN:STANDARD
TZOFFSETFROM:-0400
TZOFFSETTO:-0500
TZNAME:EST
DTSTART:20251102T060000
END:STANDARD
BEGIN:DAYLIGHT
TZOFFSETFROM:-0500
TZOFFSETTO:-0400
TZNAME:EDT
DTSTART:20260308T070000
END:DAYLIGHT
BEGIN:STANDARD
TZOFFSETFROM:-0400
TZOFFSETTO:-0500
TZNAME:EST
DTSTART:20261101T060000
END:STANDARD
END:VTIMEZONE
BEGIN:VEVENT
DTSTART;TZID=America/New_York:20250908T100000
DTEND;TZID=America/New_York:20250908T110000
DTSTAMP:20260423T144958
CREATED:20250903T164141Z
LAST-MODIFIED:20250907T165626Z
UID:10000099-1757325600-1757329200@www.flcities.com
SUMMARY:Quality Cities Live September Webinar
DESCRIPTION:Tune in monthly for insight and engaging conversations that take us beyond today’s headlines. We’ll explore what cities are doing and can do to turn the challenges of the present into better futures for our cities and our residents! \nClick here to register: https://us02web.zoom.us/webinar/register/WN_hwrHPzsWTXG3vZZi0NW3rg
URL:https://www.flcities.com/event/quality-cities-live-september-webinar/
LOCATION:Zoom
END:VEVENT
END:VCALENDAR